BEGIN:VCALENDAR
VERSION:2.0
PRODID:-//ChamberMaster//Event Calendar 2.0//EN
METHOD:PUBLISH
X-PUBLISHED-TTL:P3D
REFRESH-INTERVAL:P3D
CALSCALE:GREGORIAN
BEGIN:VEVENT
DTSTART:20100502T000000Z
DTEND:20100502T000000Z
X-MICROSOFT-CDO-ALLDAYEVENT:FALSE
SUMMARY:Cinco De Mayo!
DESCRIPTION:Enjoy margaritas and "south-of-the-border" fare as Neos pays tribute to this colorful\, high-spirited Mexican tradition. Sombreros optional!\n\n\n    Get more information HERE
X-ALT-DESC;FMTTYPE=text/html:<p>\n    Enjoy margaritas and "south-of-the-border" fare as Neos pays tribute to this colorful\, high-spirited Mexican tradition. Sombreros optional!\n</p>\n<p>\n    Get more information <a href="http://www.mansfieldtickets.com/events/all">HERE</a><a href="http://www.mansfieldtickets.com/events/all"></a><a href="http://www.mansfieldtickets.com/events/all"></a> \n</p>
LOCATION:
UID:e.2256.148
SEQUENCE:3
DTSTAMP:20260425T134216Z
URL:https://portal.richlandareachamber.com/events/details/cinco-de-mayo-05-01-2010-148
END:VEVENT

END:VCALENDAR
