BEGIN:VCALENDAR
VERSION:2.0
PRODID:-//ChamberMaster//Event Calendar 2.0//EN
METHOD:PUBLISH
X-PUBLISHED-TTL:P3D
REFRESH-INTERVAL:P3D
CALSCALE:GREGORIAN
BEGIN:VEVENT
DTSTART:20121207T220000Z
DTEND:20121208T030000Z
X-MICROSOFT-CDO-ALLDAYEVENT:FALSE
SUMMARY:Christmas Time in the City
DESCRIPTION:Join us in celebrating the holidays in historic downtown Mansfield.  Don't miss the Christmas Tree Lighting ceremony at the Carrousel\, followed by carriage rides through downtown\, the reindeer petting zoo\, and dinner & pictures with Santa!  The Tiny Tim Shoppe will be open from 5:30pm until 8:00pm and there will be a unique tour of the beautiful churches in downtown Mansfield.
X-ALT-DESC;FMTTYPE=text/html:Join us in celebrating the holidays in historic downtown Mansfield.  Don't miss the Christmas Tree Lighting ceremony at the Carrousel\, followed by carriage rides through downtown\, the reindeer petting zoo\, and dinner & pictures with Santa!  The Tiny Tim Shoppe will be open from 5:30pm until 8:00pm and there will be a unique tour of the beautiful churches in downtown Mansfield. 
LOCATION:Downtown Mansfield Mansfield\, Ohio 44902
UID:e.2256.710
SEQUENCE:3
DTSTAMP:20260420T031528Z
URL:https://portal.richlandareachamber.com/events/details/christmas-time-in-the-city-12-07-2012-710
END:VEVENT

END:VCALENDAR
