BEGIN:VCALENDAR
VERSION:2.0
PRODID:-//ChamberMaster//Event Calendar 2.0//EN
METHOD:PUBLISH
X-PUBLISHED-TTL:P3D
REFRESH-INTERVAL:P3D
CALSCALE:GREGORIAN
BEGIN:VEVENT
DTSTART:20111202T220000Z
DTEND:20111202T220000Z
X-MICROSOFT-CDO-ALLDAYEVENT:FALSE
SUMMARY:Christmas Time in the City
DESCRIPTION:Christmas Tree Lighting\, Richland Carrousel Park
X-ALT-DESC;FMTTYPE=text/html:Christmas Tree Lighting\, Richland Carrousel Park
LOCATION:Richland Carrousel Park
UID:e.2256.582
SEQUENCE:3
DTSTAMP:20260424T083021Z
URL:https://portal.richlandareachamber.com/events/details/christmas-time-in-the-city-12-02-2011-582
END:VEVENT

END:VCALENDAR
