BEGIN:VCALENDAR
VERSION:2.0
PRODID:-//ChamberMaster//Event Calendar 2.0//EN
METHOD:PUBLISH
X-PUBLISHED-TTL:P3D
REFRESH-INTERVAL:P3D
CALSCALE:GREGORIAN
BEGIN:VEVENT
DTSTART:20101211T170000Z
DTEND:20101212T220000Z
X-MICROSOFT-CDO-ALLDAYEVENT:FALSE
SUMMARY:Christmas Open House
DESCRIPTION:Meet our ALPACAS\, shop The Farm Store for ALPACA Sweaters\, Scarves\, Hats\, Gloves\, Socks\, Blankets\, Jewelry\, 'Paca Purses\, 'Paca Pins\, 'Paca Ornaments\, Mug Rugs\, Jewelry\, Felted Soap\, Felting Kits\, Yarn\, Fiber\, ALPACAS\, and more...
X-ALT-DESC;FMTTYPE=text/html:Meet our ALPACAS\, shop The Farm Store for ALPACA Sweaters\, Scarves\, Hats\, Gloves\, Socks\, Blankets\, Jewelry\, 'Paca Purses\, 'Paca Pins\, 'Paca Ornaments\, Mug Rugs\, Jewelry\, Felted Soap\, Felting Kits\, Yarn\, Fiber\, ALPACAS\, and more...\n\n
LOCATION:Alpaca Meadows 185 Bethel Lane Mansfield\, OH
UID:e.2256.377
SEQUENCE:3
DTSTAMP:20260425T033553Z
URL:https://portal.richlandareachamber.com/events/details/christmas-open-house-12-11-2010-377
END:VEVENT

END:VCALENDAR
