BEGIN:VCALENDAR
VERSION:2.0
PRODID:-//ChamberMaster//Event Calendar 2.0//EN
METHOD:PUBLISH
X-PUBLISHED-TTL:P3D
REFRESH-INTERVAL:P3D
CALSCALE:GREGORIAN
BEGIN:VEVENT
DTSTART:20091212T170000Z
DTEND:20091212T220000Z
X-MICROSOFT-CDO-ALLDAYEVENT:FALSE
SUMMARY:Christmas In The Alpaca Barn
DESCRIPTION:Christmas in the Alpaca Barn at ALPACA MEADOWS\n\nMeet the Alpacas\, Enjoy Christmas Goodies\, Shop for Gifts made from Alpaca! \n\nWarmer than wool\, softer than cashmere . . . alpaca
X-ALT-DESC;FMTTYPE=text/html:Christmas in the Alpaca Barn at ALPACA MEADOWS\n\nMeet the Alpacas\, Enjoy Christmas Goodies\, Shop for Gifts made from Alpaca! \n\nWarmer than wool\, softer than cashmere . . . alpaca\n
LOCATION:4 minutes from Richland Mall off of Park Avenue between Home Road and Lexington Springmill.
UID:e.2256.253
SEQUENCE:3
DTSTAMP:20260425T203229Z
URL:https://portal.richlandareachamber.com/events/details/christmas-in-the-alpaca-barn-12-12-2009-253
END:VEVENT

END:VCALENDAR
