BEGIN:VCALENDAR
VERSION:2.0
PRODID:-//ChamberMaster//Event Calendar 2.0//EN
METHOD:PUBLISH
X-PUBLISHED-TTL:P3D
REFRESH-INTERVAL:P3D
CALSCALE:GREGORIAN
BEGIN:VEVENT
DTSTART:20241130T200000Z
DTEND:20241231T020000Z
X-MICROSOFT-CDO-ALLDAYEVENT:FALSE
SUMMARY:Christmas at Kingwood
DESCRIPTION:Experience the magic of the holiday season at Christmas at Kingwood! Wander through the enchanting Community Tree Walk\, marvel at the breathtaking d cor inside Kingwood Hall\, and enjoy the glowing beauty of the outdoor light trail featuring over seven linear miles of twinkling lights. Delight in festive shopping\, seasonal dining\, and a variety of special events throughout the holiday season\, including visits from Santa and his reindeer\, model train displays\, and exclusive live performances. On December 3rd and 10th\, enjoy special holiday concerts by Townline 26 and Sorelle. As part of the Ohio Holiday Lights Trail\, Christmas at Kingwood has become a beloved tradition\, offering something for everyone. Don't miss the chance to make this magical event part of your holiday celebrations. Presented by Mechanics Bank\, Christmas at Kingwood is the perfect way to create lasting memories with family and friends. Learn more about our special features\, dates\, and purchase tickets at https://kingwoodcenter.org/christmas-at-kingwood/.
X-ALT-DESC;FMTTYPE=text/html:<span style="font-family:arial\,sans-serif\;"><span style="font-size:10.0pt\;">Experience the magic of the holiday season at Christmas at Kingwood! Wander through the enchanting Community Tree Walk\, marvel at the breathtaking d&eacute\;cor inside Kingwood Hall\, and enjoy the glowing beauty of the outdoor light trail&mdash\;featuring over seven linear miles of twinkling lights. Delight in festive shopping\, seasonal dining\, and a variety of special events throughout the holiday season\, including visits from Santa and his reindeer\, model train displays\, and exclusive live performances. On December 3rd and 10th\, enjoy special holiday concerts by Townline 26 and Sorelle. As part of the Ohio Holiday Lights Trail\, Christmas at Kingwood has become a beloved tradition\, offering something for everyone. Don&rsquo\;t miss the chance to make this magical event part of your holiday celebrations. Presented by Mechanics Bank\, Christmas at Kingwood is the perfect way to create lasting memories with family and friends. Learn more about our special features\, dates\, and purchase tickets at <a href="https://url.us.m.mimecastprotect.com/s/29yHC1wPkKC6zxoILfEHV31pq?domain=kingwoodcenter.org/">https://kingwoodcenter.org/christmas-at-kingwood/</a>.</span></span>
LOCATION:Kingwood Center Gardens
UID:e.2256.6109
SEQUENCE:3
DTSTAMP:20260422T125418Z
URL:https://portal.richlandareachamber.com/events/details/christmas-at-kingwood-11-30-2024-6109
END:VEVENT

END:VCALENDAR
