BEGIN:VCALENDAR
VERSION:2.0
PRODID:-//ChamberMaster//Event Calendar 2.0//EN
METHOD:PUBLISH
X-PUBLISHED-TTL:P3D
REFRESH-INTERVAL:P3D
CALSCALE:GREGORIAN
BEGIN:VEVENT
DTSTART:20101205T210000Z
DTEND:20101205T220000Z
X-MICROSOFT-CDO-ALLDAYEVENT:FALSE
SUMMARY:Chorus Holiday Concert
DESCRIPTION:The Ohio State University at Mansfield Chorus will present its traditional holiday concert\, "True Light" in the Conard Performance Space of Riedl Hall.  Both Christian and Jewish musical traditions vary throughout the world\, and this year's program will feature both classic and modern pieces from Australia\, Great Britain\, France\, Germany\, Spain\, colonial Canada\, colonial New England\, and Mexico.  Tying both Judiac and Christian themes together will be Chicagoan Keith Hampton's gospel-style piece\, "True Light."  There is no admission charge for the hour-long program.
X-ALT-DESC;FMTTYPE=text/html:The Ohio State University at Mansfield Chorus will present its traditional holiday concert\, "True Light" in the Conard Performance Space of Riedl Hall.  Both Christian and Jewish musical traditions vary throughout the world\, and this year's program will feature both classic and modern pieces from Australia\, Great Britain\, France\, Germany\, Spain\, colonial Canada\, colonial New England\, and Mexico.  Tying both Judiac and Christian themes together will be Chicagoan Keith Hampton's gospel-style piece\, "True Light."  There is no admission charge for the hour-long program.
LOCATION:Conard Performance Hall in Riedl Hall
UID:e.2256.371
SEQUENCE:3
DTSTAMP:20260425T033717Z
URL:https://portal.richlandareachamber.com/events/details/chorus-holiday-concert-12-05-2010-371
END:VEVENT

END:VCALENDAR
