BEGIN:VCALENDAR
VERSION:2.0
PRODID:-//ChamberMaster//Event Calendar 2.0//EN
METHOD:PUBLISH
X-PUBLISHED-TTL:P3D
REFRESH-INTERVAL:P3D
CALSCALE:GREGORIAN
BEGIN:VEVENT
DTSTART:20110823T230000Z
DTEND:20110823T230000Z
X-MICROSOFT-CDO-ALLDAYEVENT:FALSE
SUMMARY:Chocolate Opportunity
DESCRIPTION:This event is happening every 4th Tuesday of each month. Learn the benefits of chocolate and how it can enhance your life.
X-ALT-DESC;FMTTYPE=text/html:This event is happening every 4th Tuesday of each month. Learn the benefits of chocolate and how it can enhance your life. 
LOCATION:Denny's Restaurant 720 N Lexington Springmill Rd Ontario\, OH In the back room.
UID:e.2256.609
SEQUENCE:3
DTSTAMP:20260424T152826Z
URL:https://portal.richlandareachamber.com/events/details/chocolate-opportunity-08-23-2011-609
END:VEVENT

END:VCALENDAR
