BEGIN:VCALENDAR
VERSION:2.0
PRODID:-//ChamberMaster//Event Calendar 2.0//EN
METHOD:PUBLISH
X-PUBLISHED-TTL:P3D
REFRESH-INTERVAL:P3D
CALSCALE:GREGORIAN
BEGIN:VEVENT
DTSTART:20121114T150000Z
DTEND:20121115T190000Z
X-MICROSOFT-CDO-ALLDAYEVENT:FALSE
SUMMARY:CenturyLink Onsite Hiring Event!
DESCRIPTION:Join our team at CenturyLink! We are having an onsite Hiring Event this week! Start dates: November 26 & December 10.\n\nAll candidates must apply online at www.centurylink.jobs and are requested to completed an online assessment prior to attending the onsite hiring event.\n\nEvent is 10:00 a.m. - 2:00 p.m. both days.\n\nPotential job offers this week! You should expect to be onsite up to two hours. We would like to know which day you plan to attend. Please RSVP to chad.bailey@centurylink.com.\n\nWe look forward to seeing you this week.\n\nJob Description\n•Selling of voice\, data\, and TV products and services in designated areas.\n•Presenting an integrated solution-centered approach to customer's needs.\n•Engaging in Consultative Solution Selling.\n•Applying technical knowledge and experience.\n•Managing customer's accounts by providing stellar customer service.\n•Managing customer's accounts to retain existing business.\n•Taking ownership to resolve customer issues/problems.\n•Multitasking and looking for innovative solutions.
X-ALT-DESC;FMTTYPE=text/html:Join our team at CenturyLink! We are having an onsite Hiring Event this week! Start dates: November 26 & December 10.\n\nAll candidates must apply online at www.centurylink.jobs and are requested to completed an online assessment prior to attending the onsite hiring event.\n\nEvent is 10:00 a.m. - 2:00 p.m. both days.\n\nPotential job offers this week! You should expect to be onsite up to two hours. We would like to know which day you plan to attend. Please RSVP to chad.bailey@centurylink.com.\n\nWe look forward to seeing you this week.\n\nJob Description\n•Selling of voice\, data\, and TV products and services in designated areas.\n•Presenting an integrated solution-centered approach to customer's needs.\n•Engaging in Consultative Solution Selling.\n•Applying technical knowledge and experience.\n•Managing customer's accounts by providing stellar customer service.\n•Managing customer's accounts to retain existing business.\n•Taking ownership to resolve customer issues/problems.\n•Multitasking and looking for innovative solutions.
LOCATION:CenturyLink Call Center at 665 Lexington Ave
UID:e.2256.700
SEQUENCE:3
DTSTAMP:20260420T045230Z
URL:https://portal.richlandareachamber.com/events/details/centurylink-onsite-hiring-event-11-14-2012-700
END:VEVENT

END:VCALENDAR
