BEGIN:VCALENDAR
VERSION:2.0
PRODID:-//ChamberMaster//Event Calendar 2.0//EN
METHOD:PUBLISH
X-PUBLISHED-TTL:P3D
REFRESH-INTERVAL:P3D
CALSCALE:GREGORIAN
BEGIN:VEVENT
DTSTART:20121116T150000Z
DTEND:20121116T190000Z
X-MICROSOFT-CDO-ALLDAYEVENT:FALSE
SUMMARY:CenturyLink Hiring Event!
DESCRIPTION:EXENDED TO FRIDAY!\n\nJoin our team at CenturyLink! We are having an onsite Hiring Event this week! Start dates: November 26 & December 10. All candidates must apply online at www.centurylink.jobs and are requested to completed an online assessment prior to attending the onsite hiring event. Event is 10:00 a.m. - 2:00 p.m. Potential job offers this week! You should expect to be onsite up to two hours. \n\nWe would like to know which day you plan to attend. Please RSVP to chad.bailey@centurylink.com. We look forward to seeing you this week. \n\nJob Description •Selling of voice\, data\, and TV products and services in designated areas. •Presenting an integrated solution-centered approach to customer's needs. •Engaging in Consultative Solution Selling. •Applying technical knowledge and experience. •Managing customer's accounts by providing stellar customer service. •Managing customer's accounts to retain existing business. •Taking ownership to resolve customer issues/problems. •Multitasking and looking for innovative solutions.
X-ALT-DESC;FMTTYPE=text/html:EXENDED TO FRIDAY!\n\nJoin our team at CenturyLink! We are having an onsite Hiring Event this week! Start dates: November 26 & December 10. All candidates must apply online at www.centurylink.jobs and are requested to completed an online assessment prior to attending the onsite hiring event. Event is 10:00 a.m. - 2:00 p.m. Potential job offers this week! You should expect to be onsite up to two hours. \n\nWe would like to know which day you plan to attend. Please RSVP to chad.bailey@centurylink.com. We look forward to seeing you this week. \n\nJob Description •Selling of voice\, data\, and TV products and services in designated areas. •Presenting an integrated solution-centered approach to customer's needs. •Engaging in Consultative Solution Selling. •Applying technical knowledge and experience. •Managing customer's accounts by providing stellar customer service. •Managing customer's accounts to retain existing business. •Taking ownership to resolve customer issues/problems. •Multitasking and looking for innovative solutions. 
LOCATION:CenturyLink Call Center at 665 Lexington Ave.
UID:e.2256.702
SEQUENCE:3
DTSTAMP:20260420T045126Z
URL:https://portal.richlandareachamber.com/events/details/centurylink-hiring-event-11-16-2012-702
END:VEVENT

END:VCALENDAR
