BEGIN:VCALENDAR
VERSION:2.0
PRODID:-//ChamberMaster//Event Calendar 2.0//EN
METHOD:PUBLISH
X-PUBLISHED-TTL:P3D
REFRESH-INTERVAL:P3D
CALSCALE:GREGORIAN
BEGIN:VEVENT
DTSTART:20100408T000000Z
DTEND:20100408T000000Z
X-MICROSOFT-CDO-ALLDAYEVENT:FALSE
SUMMARY:Celtic Blaze
DESCRIPTION:Featuring the talents of world champion Irish fiddler/tap dancer\, Stephanie Cadman (Bowfire) and backed by a blazing hot five piece band\, the show is all live with no taped music or prerecorded voices and blends classical and Celtic fiddling\, tap and jazz into a performance so hot it just might burn the doors right off of the Renaissance! \n\n\n    Get more information HERE
X-ALT-DESC;FMTTYPE=text/html:<p>\n    Featuring the talents of world champion Irish fiddler/tap dancer\, Stephanie Cadman (Bowfire) and backed by a blazing hot five piece band\, the show is all live with no taped music or prerecorded voices and blends classical and Celtic fiddling\, tap and jazz into a performance so hot it just might burn the doors right off of the Renaissance! \n</p>\n<p>\n    Get more information <a href="http://www.mansfieldtickets.com/events/all">HERE</a><a href="http://www.mansfieldtickets.com/events/all"></a><a href="http://www.mansfieldtickets.com/events/all"></a> \n</p>
LOCATION:
UID:e.2256.137
SEQUENCE:3
DTSTAMP:20260425T164602Z
URL:https://portal.richlandareachamber.com/events/details/celtic-blaze-04-07-2010-137
END:VEVENT

END:VCALENDAR
