BEGIN:VCALENDAR
VERSION:2.0
PRODID:-//ChamberMaster//Event Calendar 2.0//EN
METHOD:PUBLISH
X-PUBLISHED-TTL:P3D
REFRESH-INTERVAL:P3D
CALSCALE:GREGORIAN
BEGIN:VEVENT
DTSTART:20110916T130000Z
DTEND:20110916T180000Z
X-MICROSOFT-CDO-ALLDAYEVENT:FALSE
SUMMARY:Carrousel District Farmers Market
DESCRIPTION:Outdoor market.
X-ALT-DESC;FMTTYPE=text/html:Outdoor market.
LOCATION:Fourth Street in front of Carrousel.
UID:e.2256.574
SEQUENCE:3
DTSTAMP:20260424T121632Z
URL:https://portal.richlandareachamber.com/events/details/carrousel-district-farmers-market-09-16-2011-574
END:VEVENT

END:VCALENDAR
