BEGIN:VCALENDAR
VERSION:2.0
PRODID:-//ChamberMaster//Event Calendar 2.0//EN
METHOD:PUBLISH
X-PUBLISHED-TTL:P3D
REFRESH-INTERVAL:P3D
CALSCALE:GREGORIAN
BEGIN:VEVENT
DTSTART:20110729T130000Z
DTEND:20110729T180000Z
X-MICROSOFT-CDO-ALLDAYEVENT:FALSE
SUMMARY:Carrousel District Farmers Market
DESCRIPTION:Outdoor market.
X-ALT-DESC;FMTTYPE=text/html:Outdoor market.
LOCATION:Fourth Street in front of Carrousel.
UID:e.2256.561
SEQUENCE:3
DTSTAMP:20260424T165130Z
URL:https://portal.richlandareachamber.com/events/details/carrousel-district-farmers-market-07-29-2011-561
END:VEVENT

END:VCALENDAR
