BEGIN:VCALENDAR
VERSION:2.0
PRODID:-//ChamberMaster//Event Calendar 2.0//EN
METHOD:PUBLISH
X-PUBLISHED-TTL:P3D
REFRESH-INTERVAL:P3D
CALSCALE:GREGORIAN
BEGIN:VEVENT
DTSTART:20110930T213000Z
DTEND:20110930T233000Z
X-MICROSOFT-CDO-ALLDAYEVENT:FALSE
SUMMARY:Carrousel Cruise
DESCRIPTION:Car show at the Carrousel.
X-ALT-DESC;FMTTYPE=text/html:Car show at the Carrousel.
LOCATION:Richland Carrousel
UID:e.2256.577
SEQUENCE:3
DTSTAMP:20260424T133855Z
URL:https://portal.richlandareachamber.com/events/details/carrousel-cruise-09-30-2011-577
END:VEVENT

END:VCALENDAR
