BEGIN:VCALENDAR
VERSION:2.0
PRODID:-//ChamberMaster//Event Calendar 2.0//EN
METHOD:PUBLISH
X-PUBLISHED-TTL:P3D
REFRESH-INTERVAL:P3D
CALSCALE:GREGORIAN
BEGIN:VEVENT
DTSTART:20130223T190000Z
DTEND:20130223T210000Z
X-MICROSOFT-CDO-ALLDAYEVENT:FALSE
SUMMARY:Carnival Day
DESCRIPTION:Come Join Shelby Pointe for Carnival Days. Lots of fun for the family
X-ALT-DESC;FMTTYPE=text/html:Come Join Shelby Pointe for Carnival Days. Lots of fun for the family
LOCATION:Shelby Pointe 100 Rogers Lane Shelby\, Ohio 44875
UID:e.2256.725
SEQUENCE:3
DTSTAMP:20260420T005126Z
URL:https://portal.richlandareachamber.com/events/details/carnival-day-02-23-2013-725
END:VEVENT

END:VCALENDAR
