BEGIN:VCALENDAR
VERSION:2.0
PRODID:-//ChamberMaster//Event Calendar 2.0//EN
METHOD:PUBLISH
X-PUBLISHED-TTL:P3D
REFRESH-INTERVAL:P3D
CALSCALE:GREGORIAN
BEGIN:VEVENT
DTSTART:20100418T000000Z
DTEND:20100418T000000Z
X-MICROSOFT-CDO-ALLDAYEVENT:FALSE
SUMMARY:Carmen
DESCRIPTION:Love...Greed...Murder!\n\n\n    Get more information HERE
X-ALT-DESC;FMTTYPE=text/html:<p>\n    Love...Greed...Murder!\n</p>\n<p>\n    Get more information <a href="http://www.mansfieldtickets.com/events/all">HERE</a><a href="http://www.mansfieldtickets.com/events/all"></a><a href="http://www.mansfieldtickets.com/events/all"></a> \n</p>
LOCATION:
UID:e.2256.145
SEQUENCE:3
DTSTAMP:20260425T151307Z
URL:https://portal.richlandareachamber.com/events/details/carmen-04-17-2010-145
END:VEVENT

END:VCALENDAR
