BEGIN:VCALENDAR
VERSION:2.0
PRODID:-//ChamberMaster//Event Calendar 2.0//EN
METHOD:PUBLISH
X-PUBLISHED-TTL:P3D
REFRESH-INTERVAL:P3D
CALSCALE:GREGORIAN
BEGIN:VEVENT
DTSTART:20251028T153000Z
DTEND:20251028T173000Z
X-MICROSOFT-CDO-ALLDAYEVENT:FALSE
SUMMARY:Carlisle Gifts Fall Gathering
DESCRIPTION:Join Carlisle Gifts for an afternoon of food\, fun\, and friendship while checking out the latest clothing and home d cor trends. Attendees will enjoy a runway fashion show\, home decorating tips\, and a catered meal from Der Dutchman Restaurant.
X-ALT-DESC;FMTTYPE=text/html:Join Carlisle Gifts for an afternoon of food\, fun\, and friendship while checking out the latest clothing and home d&eacute\;cor trends. Attendees will enjoy a runway fashion show\, home decorating tips\, and a catered meal from Der Dutchman Restaurant.
LOCATION:Der Dutchman Restaurant\, 720 State Rt 97 W\, Bellville\, OH 44813
UID:e.2256.6336
SEQUENCE:3
DTSTAMP:20260421T193730Z
URL:https://portal.richlandareachamber.com/events/details/carlisle-gifts-fall-gathering-6336
END:VEVENT

END:VCALENDAR
