BEGIN:VCALENDAR
VERSION:2.0
PRODID:-//ChamberMaster//Event Calendar 2.0//EN
METHOD:PUBLISH
X-PUBLISHED-TTL:P3D
REFRESH-INTERVAL:P3D
CALSCALE:GREGORIAN
BEGIN:VEVENT
DTSTART:20100309T160000Z
DTEND:20100310T000000Z
X-MICROSOFT-CDO-ALLDAYEVENT:FALSE
SUMMARY:Business Expo 2016
DESCRIPTION:ReDiscover Your Local Businesses!  Fairhaven Hall at the Richland County Fairgrounds will once again be filled to capacity with nearly 100 local businesses at the 5th annual Business Expo\n\nThe 2010 Business Expo and Business After Hours will be held Tuesday\, March 9\, from 11-7pm at the Richland County Fairgrounds.\n\nThis event is FREE & OPEN TO THE PUBLIC! Please encourage your staff\, customers\, friends\, and family to attend!\n\nWhy attend? The expo provides the perfect opportunity for you to learn more about the products and services that are offered by local businesses!\n\n\n	Admission is FREE\, and fabulous prizes\, great giveaways\, fun games and booth drawings will be offered.\n	This year we will offer Booth Bingo\, which will be a fun way for attendees to win prizes by visiting booths.\n	Throughout the day\, there will be "Expo Only Specials" including deals\, specials\, and coupons available only at the Expo.\n	100 free lunches will be given to attendees compliments of Panera Bread (lunch will also be available to purchase)\n	Digital signage provided by DRM Retriever\n	Radon Test Kits\, Blood Sugar Testing\, Blood Pressure Check\, Free H1N1 Flu Shots\, Nutrition Education\, and Medication review courtesy of Mansfield/Ontario Richland Co. Health Dept.\n	The Expo will continue throughout the Business After Hours from 5-7 pm\, with free admission\, hors d'oeuvres & cash bar.\n	\n\n	SCHEDULE of FREE Seminars & Events:\n\n	10:45 -  Ribbon Cutting with Mayor Culliver\, Mayor Collins\, and other local dignitaries at 10:45 at the main entrance.  Miss Ohio will also be singing the National Anthem.\n\n	\n\n	11:30 - 1:00  - Consumer Credit Counseling/Apprisen Financial Advocates will speak on understanding and taking charge of your credit report and credit score \n\n	\n\n	1:00 - 2:00 -  Dr. Blake Wagner presents "Power Up Your Passion"  \n\n	\n\n	2:00 - David Townsend/Key Bank Vice President and SBA Specialist will present a program on SBA loans for Small Businesses.\n\n	\n\n	3:00 - Miss Ohio presents "Turning the Page on Literacy"  \n\n	\n\n	4:00 - The Cleveland Indians front office rep presentation which includes a high energy video\, state of the Indians address\, countdown to opening day and a Q & A Session.  Handout materials will be available and a drawing will be held for Indians prizes.  \n\n	\n\n	5:00 - 7:00  - During the Business After Hours from 5-7\, Jeff Angelini with Nyte Flyte Entertainment and Miss Ohio will be present to assist with individual booth prize drawings.\n\n	\n\n	In conjuction with the Expo\, the March Business After Hours will be held from 5-7pm. Business After Hours attendees will also be admitted at no cost. A special "Thank You" to our sponsors: Graham Automall Startek Richland Bank Hamilton Insurance representing Auto-Owners Insurance\n\n	For more information\, call the Chamber at 419-522-3211.
X-ALT-DESC;FMTTYPE=text/html:<p>ReDiscover Your Local Businesses!<span style="mso-spacerun: yes">&nbsp\; </span>Fairhaven Hall at the Richland County Fairgrounds will once again be filled to capacity with nearly 100 local businesses at the 5<sup>th</sup> annual Business Expo</p>\n\n<p>The 2010 Business Expo and Business After Hours will be held Tuesday\, March 9\, from 11-7pm at the Richland County Fairgrounds.</p>\n\n<p>This event is FREE &amp\; OPEN TO THE PUBLIC! Please encourage your staff\, customers\, friends\, and family to attend!</p>\n\n<p><strong>Why attend?</strong> The expo provides the perfect opportunity for you to learn more about the products and services that are offered by local businesses!</p>\n\n<ul>\n	<li><span class="859360914-24022010"><font color="#0000ff" face="Arial" size="2">Admission is FREE\, and fabulous prizes\, great giveaways\, fun games and booth drawings will be offered.</font></span></li>\n	<li><span class="859360914-24022010"><font color="#0000ff" face="Arial" size="2"><span class="859360914-24022010"><font color="#0000ff" face="Arial" size="2">This year we will offer Booth Bingo\, which will be a fun way for attendees to win prizes by visiting booths.</font></span></font></span></li>\n	<li><span class="859360914-24022010"><font color="#0000ff" face="Arial" size="2"><span class="859360914-24022010">Throughout the day\, there will be &quot\;Expo Only Specials&quot\; including deals\, specials\, and coupons available only at the Expo.</span></font></span></li>\n	<li><span class="859360914-24022010"><font color="#0000ff" face="Arial" size="2"><span class="859360914-24022010">100 free lunches will be given to attendees compliments of Panera Bread (lunch will also be available to purchase)</span></font></span></li>\n	<li><span class="859360914-24022010"><font color="#0000ff" face="Arial" size="2"><span class="859360914-24022010">Digital signage provided by DRM Retriever</span></font></span></li>\n	<li><span class="859360914-24022010"><font color="#0000ff" face="Arial" size="2"><span class="859360914-24022010">Radon Test Kits\, Blood Sugar Testing\, Blood Pressure Check\, Free H1N1 Flu Shots\, Nutrition Education\, and Medication review courtesy of Mansfield/Ontario Richland Co. Health Dept.</span></font></span></li>\n	<li><span class="859360914-24022010"><font color="#0000ff" face="Arial" size="2"><span class="859360914-24022010">The Expo will continue throughout the Business After Hours from 5-7 pm\, with free admission\, hors d&#39\;oeuvres &amp\; cash bar.</span></font></span>\n	<div><br />\n	<span class="859360914-24022010"><font color="#0000ff" face="Arial" size="2"><span class="859360914-24022010"><strong><u>SCHEDULE of FREE Seminars &amp\; Events</u>:</strong></span></font></span></div>\n\n	<p><span class="859360914-24022010"><font color="#0000ff" face="Arial" size="2"><span class="859360914-24022010">10:45 - &nbsp\;Ribbon Cutting with Mayor Culliver\, Mayor Collins\,&nbsp\;and other local dignitaries at 10:45 at the main entrance.&nbsp\; Miss Ohio will also be singing the National Anthem.</span></font></span><br />\n	<br />\n	<font color="#0000ff" face="Arial" size="2">11:30&nbsp\;- 1:00</font>&nbsp\; - <span class="859360914-24022010"><font color="#0000ff" face="Arial" size="2"><span class="859360914-24022010">Consumer Credit Counseling/Apprisen Financial Advocates will speak on understanding and taking charge of your credit report and credit score </span></font></span><br />\n	<br />\n	<span class="859360914-24022010"><font color="#0000ff" face="Arial" size="2"><span class="859360914-24022010">1:00 - 2:00 - &nbsp\;</span></font></span><span class="859360914-24022010"><font color="#0000ff" face="Arial" size="2"><span class="859360914-24022010">Dr. Blake Wagner presents &quot\;Power Up Your Passion&quot\;&nbsp\;&nbsp\;<br />\n	<br />\n	2:00 - David Townsend/Key Bank Vice President and SBA Specialist will present a program on SBA loans for Small Businesses.<br />\n	<br />\n	3:00 - <span class="859360914-24022010"><font color="#0000ff" face="Arial" size="2"><span class="859360914-24022010">Miss Ohio&nbsp\;presents &quot\;Turning the Page on Literacy&quot\;&nbsp\;&nbsp\;</span></font></span></span></font></span><br />\n	<br />\n	<span class="859360914-24022010"><font color="#0000ff" face="Arial" size="2"><span class="859360914-24022010"><span class="859360914-24022010"><font color="#0000ff" face="Arial" size="2"><span class="859360914-24022010">4:00&nbsp\;<font color="#000000" face="Times New Roman" size="3">- </font></span></font></span></span></font></span><span class="859360914-24022010"><font color="#0000ff" face="Arial" size="2"><span class="859360914-24022010">The Cleveland Indians front office rep presentation which includes a high energy video\, state of the Indians address\, countdown to opening day and a Q &amp\; A Session.&nbsp\; Handout materials will be available and a drawing will be held for Indians prizes.&nbsp\;&nbsp\;</span></font></span><br />\n	<br />\n	<span class="859360914-24022010"><font color="#0000ff" face="Arial" size="2"><span class="859360914-24022010"><span class="859360914-24022010"><font color="#0000ff" face="Arial" size="2"><span class="859360914-24022010">5:00 - 7:00</span></font></span></span></font></span><span class="859360914-24022010"><font color="#0000ff" face="Arial" size="2"><span class="859360914-24022010">&nbsp\; - </span></font></span><span class="859360914-24022010"><font color="#0000ff" face="Arial" size="2"><span class="859360914-24022010">During the Business After Hours from 5-7\, Jeff Angelini with Nyte Flyte Entertainment and Miss Ohio will be present to assist with individual booth prize drawings.</span></font></span><br />\n	<br />\n	In conjuction with the Expo\, the March Business After Hours will be held from 5-7pm. Business After Hours attendees will also be admitted at no cost. A special &quot\;Thank You&quot\; to our sponsors: Graham Automall Startek Richland Bank Hamilton Insurance representing Auto-Owners Insurance<br />\n	For more information\, call the Chamber at 419-522-3211.</p>\n	</li>\n</ul>\n
LOCATION:
UID:e.2256.257
SEQUENCE:3
DTSTAMP:20260425T164722Z
URL:https://portal.richlandareachamber.com/events/details/business-expo-2016-03-09-2010-257
END:VEVENT

END:VCALENDAR
