BEGIN:VCALENDAR
VERSION:2.0
PRODID:-//ChamberMaster//Event Calendar 2.0//EN
METHOD:PUBLISH
X-PUBLISHED-TTL:P3D
REFRESH-INTERVAL:P3D
CALSCALE:GREGORIAN
BEGIN:VEVENT
DTSTART:20110825T130000Z
DTEND:20110825T143000Z
X-MICROSOFT-CDO-ALLDAYEVENT:FALSE
SUMMARY:Business Case for Breastfeeding Seminar
DESCRIPTION:Seminar for businesses to address recent health care reforms and changes to the Fair Labor Standards Act. Information and resources will be provided to assist in developing guidelines and policies to support employees who choose to breastfeed after returning to work following the birth of a child.
X-ALT-DESC;FMTTYPE=text/html:Seminar for businesses to address recent health care reforms and changes to the Fair Labor Standards Act. Information and resources will be provided to assist in developing guidelines and policies to support employees who choose to breastfeed after returning to work following the birth of a child. 
LOCATION:Longview Center\, Lower Classroom 1495 W. Longview Ave Mansfield\, OH No cost to attend\, but registration is requested: call 419-774-4544
UID:e.2256.607
SEQUENCE:3
DTSTAMP:20260424T153055Z
URL:https://portal.richlandareachamber.com/events/details/business-case-for-breastfeeding-seminar-08-25-2011-607
END:VEVENT

END:VCALENDAR
