BEGIN:VCALENDAR
VERSION:2.0
PRODID:-//ChamberMaster//Event Calendar 2.0//EN
METHOD:PUBLISH
X-PUBLISHED-TTL:P3D
REFRESH-INTERVAL:P3D
CALSCALE:GREGORIAN
BEGIN:VEVENT
DTSTART:20091211T003000Z
DTEND:20091211T003000Z
X-MICROSOFT-CDO-ALLDAYEVENT:FALSE
SUMMARY:Brian Regan
DESCRIPTION:Making his much-requested return to the Renaissance\, Brian Regan has distinguished himself as one of the best and brightest comedians in the country today.\n\n\n    Get more information HERE
X-ALT-DESC;FMTTYPE=text/html:<p>\n    Making his much-requested return to the Renaissance\, Brian Regan has distinguished himself as one of the best and brightest comedians in the country today.\n</p>\n<p>\n    Get more information <a href="http://www.mansfieldtickets.com/events/all">HERE</a><a href="http://www.mansfieldtickets.com/events/all"></a><a href="http://www.mansfieldtickets.com/events/all"></a>\n</p>
LOCATION:
UID:e.2256.109
SEQUENCE:3
DTSTAMP:20260425T220256Z
URL:https://portal.richlandareachamber.com/events/details/brian-regan-12-10-2009-109
END:VEVENT

END:VCALENDAR
