BEGIN:VCALENDAR
VERSION:2.0
PRODID:-//ChamberMaster//Event Calendar 2.0//EN
METHOD:PUBLISH
X-PUBLISHED-TTL:P3D
REFRESH-INTERVAL:P3D
CALSCALE:GREGORIAN
BEGIN:VEVENT
DTSTART:20110226T210000Z
DTEND:20110226T210000Z
X-MICROSOFT-CDO-ALLDAYEVENT:FALSE
SUMMARY:Black History Month Event
DESCRIPTION:Nosey Neighbors:  Look how far We've Come\nLight comedy play production will focus on how two different families share their stories of survival.
X-ALT-DESC;FMTTYPE=text/html:Nosey Neighbors:  Look how far We've Come\nLight comedy play production will focus on how two different families share their stories of survival.
LOCATION:Founders Auditorium at OSU Mansfield
UID:e.2256.391
SEQUENCE:3
DTSTAMP:20260425T003510Z
URL:https://portal.richlandareachamber.com/events/details/black-history-month-event-02-26-2011-391
END:VEVENT

END:VCALENDAR
