BEGIN:VCALENDAR
VERSION:2.0
PRODID:-//ChamberMaster//Event Calendar 2.0//EN
METHOD:PUBLISH
X-PUBLISHED-TTL:P3D
REFRESH-INTERVAL:P3D
CALSCALE:GREGORIAN
BEGIN:VEVENT
DTSTART:20110224T230000Z
DTEND:20110224T230000Z
X-MICROSOFT-CDO-ALLDAYEVENT:FALSE
SUMMARY:Black History Month Event
DESCRIPTION:Soul Food Dinner\nTickets are on sale now for this annual event featuring soul food by CMJ's Concessions & Catering. Call 419-755-4314 to reserve tickets.
X-ALT-DESC;FMTTYPE=text/html:Soul Food Dinner\nTickets are on sale now for this annual event featuring soul food by CMJ's Concessions & Catering. Call 419-755-4314 to reserve tickets.
LOCATION:Eisenhower Campus Cafe at OSU Mansfield
UID:e.2256.390
SEQUENCE:3
DTSTAMP:20260425T003412Z
URL:https://portal.richlandareachamber.com/events/details/black-history-month-event-02-24-2011-390
END:VEVENT

END:VCALENDAR
