BEGIN:VCALENDAR
VERSION:2.0
PRODID:-//ChamberMaster//Event Calendar 2.0//EN
METHOD:PUBLISH
X-PUBLISHED-TTL:P3D
REFRESH-INTERVAL:P3D
CALSCALE:GREGORIAN
BEGIN:VEVENT
DTSTART:20110216T170000Z
DTEND:20110216T170000Z
X-MICROSOFT-CDO-ALLDAYEVENT:FALSE
SUMMARY:Black History Month Event
DESCRIPTION:Interracial Civil Rights Activism through Wednesdays in Mississippi:  discussed by OSU Newark professor Tiyi Morris
X-ALT-DESC;FMTTYPE=text/html:Interracial Civil Rights Activism through Wednesdays in Mississippi:  discussed by OSU Newark professor Tiyi Morris
LOCATION:Conard Performance Hall in Riedl Hall at OSU Mansfield
UID:e.2256.389
SEQUENCE:3
DTSTAMP:20260425T003510Z
URL:https://portal.richlandareachamber.com/events/details/black-history-month-event-02-16-2011-389
END:VEVENT

END:VCALENDAR
