BEGIN:VCALENDAR
VERSION:2.0
PRODID:-//ChamberMaster//Event Calendar 2.0//EN
METHOD:PUBLISH
X-PUBLISHED-TTL:P3D
REFRESH-INTERVAL:P3D
CALSCALE:GREGORIAN
BEGIN:VEVENT
DTSTART:20110204T010000Z
DTEND:20110204T010000Z
X-MICROSOFT-CDO-ALLDAYEVENT:FALSE
SUMMARY:Black History Month Event
DESCRIPTION:The Renaissance Theatare brings the poetry of George Watsky to the stage of Founders Auditorium at OSU Mansfield.
X-ALT-DESC;FMTTYPE=text/html:The Renaissance Theatare brings the poetry of George Watsky to the stage of Founders Auditorium at OSU Mansfield.
LOCATION:Founders Auditorium at OSU Mansfield
UID:e.2256.387
SEQUENCE:3
DTSTAMP:20260425T003412Z
URL:https://portal.richlandareachamber.com/events/details/black-history-month-event-02-03-2011-387
END:VEVENT

END:VCALENDAR
