BEGIN:VCALENDAR
VERSION:2.0
PRODID:-//ChamberMaster//Event Calendar 2.0//EN
METHOD:PUBLISH
X-PUBLISHED-TTL:P3D
REFRESH-INTERVAL:P3D
CALSCALE:GREGORIAN
BEGIN:VEVENT
DTSTART:20110203T170000Z
DTEND:20110203T170000Z
X-MICROSOFT-CDO-ALLDAYEVENT:FALSE
SUMMARY:Black History Month Event
DESCRIPTION:Lecture presented by Gary Proietti\, adjunct faculty member at North Cental State College:  Criminal Justice and Minorities:  Covert Systemic Racism
X-ALT-DESC;FMTTYPE=text/html:Lecture presented by Gary Proietti\, adjunct faculty member at North Cental State College:  Criminal Justice and Minorities:  Covert Systemic Racism
LOCATION:Bromfield Hall\, Room 117 at OSU Mansfield
UID:e.2256.386
SEQUENCE:3
DTSTAMP:20260425T003459Z
URL:https://portal.richlandareachamber.com/events/details/black-history-month-event-02-03-2011-386
END:VEVENT

END:VCALENDAR
