BEGIN:VCALENDAR
VERSION:2.0
PRODID:-//ChamberMaster//Event Calendar 2.0//EN
METHOD:PUBLISH
X-PUBLISHED-TTL:P3D
REFRESH-INTERVAL:P3D
CALSCALE:GREGORIAN
BEGIN:VEVENT
DTSTART:20110119T000000Z
DTEND:20110119T000000Z
X-MICROSOFT-CDO-ALLDAYEVENT:FALSE
SUMMARY:Black History Month Event
DESCRIPTION:"From I have a Dream to Yes We Can".\nBarry Scott will perform a moving tribute that chronicles America's struggle for equality through the words of Dr. King and Barack Obama.
X-ALT-DESC;FMTTYPE=text/html:"From I have a Dream to Yes We Can".\nBarry Scott will perform a moving tribute that chronicles America's struggle for equality through the words of Dr. King and Barack Obama.
LOCATION:Founders Auditorium at OSU Mansfield
UID:e.2256.384
SEQUENCE:3
DTSTAMP:20260425T020835Z
URL:https://portal.richlandareachamber.com/events/details/black-history-month-event-01-18-2011-384
END:VEVENT

END:VCALENDAR
