BEGIN:VCALENDAR
VERSION:2.0
PRODID:-//ChamberMaster//Event Calendar 2.0//EN
METHOD:PUBLISH
X-PUBLISHED-TTL:P3D
REFRESH-INTERVAL:P3D
CALSCALE:GREGORIAN
BEGIN:VEVENT
DTSTART:20090826T220000Z
DTEND:20090826T040000Z
X-MICROSOFT-CDO-ALLDAYEVENT:FALSE
SUMMARY:Barnes and Nobel book signing
DESCRIPTION:A new Ohio Civil War book\, Hiram's Honor:Reliving Private Terman's Civil War will be available.  It is about a Richland County soldier who was captured at Gettysburg\, sent to Andersonville prison\, and survived.  It is a true story written by an ancestor who is an accomplished author.
X-ALT-DESC;FMTTYPE=text/html: A new Ohio Civil War book\, Hiram's Honor:Reliving Private Terman's Civil War will be available.  It is about a Richland County soldier who was captured at Gettysburg\, sent to Andersonville prison\, and survived.  It is a true story written by an ancestor who is an accomplished author.
LOCATION:Barnes and Noble Store on Lex-Springmill Rd
UID:e.2256.76
SEQUENCE:3
DTSTAMP:20260426T022009Z
URL:https://portal.richlandareachamber.com/events/details/barnes-and-nobel-book-signing-08-26-2009-76
END:VEVENT

END:VCALENDAR
