BEGIN:VCALENDAR
VERSION:2.0
PRODID:-//ChamberMaster//Event Calendar 2.0//EN
METHOD:PUBLISH
X-PUBLISHED-TTL:P3D
REFRESH-INTERVAL:P3D
CALSCALE:GREGORIAN
BEGIN:VEVENT
DTSTART:20100213T010000Z
DTEND:20100213T010000Z
X-MICROSOFT-CDO-ALLDAYEVENT:FALSE
SUMMARY:Barefoot in the Park at OSU Founders Auditorium
DESCRIPTION:For more information\, please call 419-755-4276 of e-mail fahey.9@osu.edu
X-ALT-DESC;FMTTYPE=text/html:For more information\, please call 419-755-4276 of e-mail fahey.9@osu.edu
LOCATION:
UID:e.2256.242
SEQUENCE:3
DTSTAMP:20260425T180634Z
URL:https://portal.richlandareachamber.com/events/details/barefoot-in-the-park-at-osu-founders-auditorium-02-12-2010-242
END:VEVENT

END:VCALENDAR
