BEGIN:VCALENDAR
VERSION:2.0
PRODID:-//ChamberMaster//Event Calendar 2.0//EN
METHOD:PUBLISH
X-PUBLISHED-TTL:P3D
REFRESH-INTERVAL:P3D
CALSCALE:GREGORIAN
BEGIN:VEVENT
DTSTART:20130308T230000Z
DTEND:20130308T230000Z
X-MICROSOFT-CDO-ALLDAYEVENT:FALSE
SUMMARY:Author Event with Raquel Eatmon
DESCRIPTION:Ohio native Raquel Eatmon has just released her first book\, Strut Your Stuff: Principles in Purpose\, Power\, and Position. Main Street Books is pleased to announce an author event with the news broadcaster and writer on Friday\, March 8 at 6pm.\n\nThe Book:\n\nEatmon's book Strut Your Stuff: Principles in Purpose\, Power\, and Position gives the reader an all-access pass to her personal story of struggle and success. She brings a certain celebratory soulfulness to her work\, the kind that pulls people out of their heads and into their hearts\, the kind that causes people to take action\, and the kind that permeates personal reflection.  She dives deep into issues surrounding fulfillment through an honest look at how she lost it all\, only to find the most important\, sacred gem in life: self.\n\n\nThe Author:\n\nRaquel Eatmon has more than 15 years of experience in the television broadcasting world. She is the founder of Rising Media LLC\, a company rooted in power living programs\, projects\, and conferences. In 2009 she launched Women of Power conference\, which unites progressive women and works to build personal power resources.
X-ALT-DESC;FMTTYPE=text/html:Ohio native Raquel Eatmon has just released her first book\, Strut Your Stuff: Principles in Purpose\, Power\, and Position. Main Street Books is pleased to announce an author event with the news broadcaster and writer on Friday\, March 8 at 6pm.\n\nThe Book:\n\nEatmon's book Strut Your Stuff: Principles in Purpose\, Power\, and Position gives the reader an all-access pass to her personal story of struggle and success. She brings a certain celebratory soulfulness to her work\, the kind that pulls people out of their heads and into their hearts\, the kind that causes people to take action\, and the kind that permeates personal reflection.  She dives deep into issues surrounding fulfillment through an honest look at how she lost it all\, only to find the most important\, sacred gem in life: self.\n\n\nThe Author:\n\nRaquel Eatmon has more than 15 years of experience in the television broadcasting world. She is the founder of Rising Media LLC\, a company rooted in power living programs\, projects\, and conferences. In 2009 she launched Women of Power conference\, which unites progressive women and works to build personal power resources.
LOCATION:Main Street Books
UID:e.2256.731
SEQUENCE:3
DTSTAMP:20260419T222049Z
URL:https://portal.richlandareachamber.com/events/details/author-event-with-raquel-eatmon-03-08-2013-731
END:VEVENT

END:VCALENDAR
