BEGIN:VCALENDAR
VERSION:2.0
PRODID:-//ChamberMaster//Event Calendar 2.0//EN
METHOD:PUBLISH
X-PUBLISHED-TTL:P3D
REFRESH-INTERVAL:P3D
CALSCALE:GREGORIAN
BEGIN:VEVENT
DTSTART:20130301T230000Z
DTEND:20130302T010000Z
X-MICROSOFT-CDO-ALLDAYEVENT:FALSE
SUMMARY:Author Event with Lee Martin
DESCRIPTION:Main Street Books is pleased to announce an author event with Pulitzer Prize Finalist and OSU professor of creative writing\, Lee Martin. The author will read and sign books in The Book Loft on Friday\, March 1\, 2013 at 6pm.\n\nLee Martin is the Pulitzer Prize Finalist author of The Bright Forever\, and three other novels\, including Break the Skin. His other books are the novels\, River of Heaven and Quakertown\; the memoirs\, Such a Life\, From Our House\, and Turning Bones\; and the short story collection\, The Least You Need to Know. His fiction and nonfiction have appeared in such places as Harper's\, Ms.\, Creative Nonfiction\, The Georgia Review\, The Kenyon Review\, Fourth Genre\, River Teeth\, The Southern Review\, Prairie Schooner\, and Glimmer Train. He is the winner of the Mary McCarthy Prize in Short Fiction and fellowships from the National Endowment for the Arts and the Ohio Arts Council. He teaches in the MFA Program at The Ohio State University\, where he was the winner of the 2006 Alumni Award for Distinguished Teaching.\n\nThe event will begin at 6pm during downtown Mansfield's March First Friday Shop Hop and will be followed by Main Street Books' monthly Poetry & Prose Extravaganza\, a literary open mic\, at 8pm.
X-ALT-DESC;FMTTYPE=text/html:Main Street Books is pleased to announce an author event with Pulitzer Prize Finalist and OSU professor of creative writing\, Lee Martin. The author will read and sign books in The Book Loft on Friday\, March 1\, 2013 at 6pm.\n\nLee Martin is the Pulitzer Prize Finalist author of The Bright Forever\, and three other novels\, including Break the Skin. His other books are the novels\, River of Heaven and Quakertown\; the memoirs\, Such a Life\, From Our House\, and Turning Bones\; and the short story collection\, The Least You Need to Know. His fiction and nonfiction have appeared in such places as Harper's\, Ms.\, Creative Nonfiction\, The Georgia Review\, The Kenyon Review\, Fourth Genre\, River Teeth\, The Southern Review\, Prairie Schooner\, and Glimmer Train. He is the winner of the Mary McCarthy Prize in Short Fiction and fellowships from the National Endowment for the Arts and the Ohio Arts Council. He teaches in the MFA Program at The Ohio State University\, where he was the winner of the 2006 Alumni Award for Distinguished Teaching.\n\nThe event will begin at 6pm during downtown Mansfield's March First Friday Shop Hop and will be followed by Main Street Books' monthly Poetry & Prose Extravaganza\, a literary open mic\, at 8pm.
LOCATION:Main Street Books
UID:e.2256.727
SEQUENCE:3
DTSTAMP:20260419T234606Z
URL:https://portal.richlandareachamber.com/events/details/author-event-with-lee-martin-03-01-2013-727
END:VEVENT

END:VCALENDAR
