BEGIN:VCALENDAR
VERSION:2.0
PRODID:-//ChamberMaster//Event Calendar 2.0//EN
METHOD:PUBLISH
X-PUBLISHED-TTL:P3D
REFRESH-INTERVAL:P3D
CALSCALE:GREGORIAN
BEGIN:VEVENT
DTSTART:20090705T110000Z
DTEND:20090705T120000Z
X-MICROSOFT-CDO-ALLDAYEVENT:FALSE
SUMMARY:Ashland BalloonFest
DESCRIPTION:Balloon Fly-Overs
X-ALT-DESC;FMTTYPE=text/html:Balloon Fly-Overs
LOCATION:Children's Home Field\, Center St. and Morgan Ave.
UID:e.2256.7
SEQUENCE:3
DTSTAMP:20260426T035833Z
URL:https://portal.richlandareachamber.com/events/details/ashland-balloonfest-07-05-2009-7
END:VEVENT

END:VCALENDAR
