BEGIN:VCALENDAR
VERSION:2.0
PRODID:-//ChamberMaster//Event Calendar 2.0//EN
METHOD:PUBLISH
X-PUBLISHED-TTL:P3D
REFRESH-INTERVAL:P3D
CALSCALE:GREGORIAN
BEGIN:VEVENT
DTSTART:20090703T140000Z
DTEND:20090704T013000Z
X-MICROSOFT-CDO-ALLDAYEVENT:FALSE
SUMMARY:Ashland BalloonFest
DESCRIPTION:Feel the excitement and splendor of bold\, colorful hot air balloons as they tower over you\, then magically rise and soar away! Plus\, enjoy lots of other activities: Balloon Glow\, Balloon races\, stage performances\, sport tournaments\, displays\, exhibits\, food and more. BalloonFest promises to be an outing with the entire family in mind.
X-ALT-DESC;FMTTYPE=text/html:Feel the excitement and splendor of bold\, colorful hot air balloons as they tower over you\, then magically rise and soar away! Plus\, enjoy lots of other activities: Balloon Glow\, Balloon races\, stage performances\, sport tournaments\, displays\, exhibits\, food and more. BalloonFest promises to be an outing with the entire family in mind. 
LOCATION:Children's Home Field\, Center St. and Morgan Ave.
UID:e.2256.27
SEQUENCE:3
DTSTAMP:20260426T035909Z
URL:https://portal.richlandareachamber.com/events/details/ashland-balloonfest-07-03-2009-27
END:VEVENT

END:VCALENDAR
