BEGIN:VCALENDAR
VERSION:2.0
PRODID:-//ChamberMaster//Event Calendar 2.0//EN
METHOD:PUBLISH
X-PUBLISHED-TTL:P3D
REFRESH-INTERVAL:P3D
CALSCALE:GREGORIAN
BEGIN:VEVENT
DTSTART:20091005T150000Z
DTEND:20091005T150000Z
X-MICROSOFT-CDO-ALLDAYEVENT:FALSE
SUMMARY:Art Gallery exhibition
DESCRIPTION:"Child's Play" an art exhibition featuring three artists:  Nancy Legner\, Sandwich\, IL\, Michael Pittman\, Evansville\, IN\, and Linda Whitney\, Valley City\, ND.\nThe show represents the great big world of child's play\, imaginary wars\, and some of the old children's TV programs.  Gallery hours are 11 a.m. - 4 p.m.\, Monday-Friday
X-ALT-DESC;FMTTYPE=text/html:"Child's Play" an art exhibition featuring three artists:  Nancy Legner\, Sandwich\, IL\, Michael Pittman\, Evansville\, IN\, and Linda Whitney\, Valley City\, ND.\nThe show represents the great big world of child's play\, imaginary wars\, and some of the old children's TV programs.  Gallery hours are 11 a.m. - 4 p.m.\, Monday-Friday
LOCATION:Pearl Conard Art Gallery at OSU Mansfield
UID:e.2256.90
SEQUENCE:3
DTSTAMP:20260425T232531Z
URL:https://portal.richlandareachamber.com/events/details/art-gallery-exhibition-10-05-2009-90
END:VEVENT

END:VCALENDAR
