BEGIN:VCALENDAR
VERSION:2.0
PRODID:-//ChamberMaster//Event Calendar 2.0//EN
METHOD:PUBLISH
X-PUBLISHED-TTL:P3D
REFRESH-INTERVAL:P3D
CALSCALE:GREGORIAN
BEGIN:VEVENT
DTSTART:20091005T150000Z
DTEND:20091005T150000Z
X-MICROSOFT-CDO-ALLDAYEVENT:FALSE
SUMMARY:Art Exhibition
DESCRIPTION:The Pearl Conard Gallery at The Ohio State University opens the 2009-2010 gallry exhibtion season with the show "Child's Play".  The exhibition features the work of three artists:  Nancy Legner\, Sandwich\, Illinois\; Michael Pittman\, Evansville\, Indiana\; and Linda Whitney\, Valley City\, North Dakota.  The show represents te great big world of child's play\, imaginary wars\, and some of the old children's TV programs.  Works include oil paints and acrylics\, intaglios\, mezzotints\, and mixed media.  The gallery is opened Monday-Friday from \n11:00 a.m. - 4:00 p.m.
X-ALT-DESC;FMTTYPE=text/html:The Pearl Conard Gallery at The Ohio State University opens the 2009-2010 gallry exhibtion season with the show "Child's Play".  The exhibition features the work of three artists:  Nancy Legner\, Sandwich\, Illinois\; Michael Pittman\, Evansville\, Indiana\; and Linda Whitney\, Valley City\, North Dakota.  The show represents te great big world of child's play\, imaginary wars\, and some of the old children's TV programs.  Works include oil paints and acrylics\, intaglios\, mezzotints\, and mixed media.  The gallery is opened Monday-Friday from \n11:00 a.m. - 4:00 p.m.
LOCATION:Pearl Conard Art Gallery at The Ohio State University at Mansfield
UID:e.2256.96
SEQUENCE:3
DTSTAMP:20260426T004837Z
URL:https://portal.richlandareachamber.com/events/details/art-exhibition-10-05-2009-96
END:VEVENT

END:VCALENDAR
