BEGIN:VCALENDAR
VERSION:2.0
PRODID:-//ChamberMaster//Event Calendar 2.0//EN
METHOD:PUBLISH
X-PUBLISHED-TTL:P3D
REFRESH-INTERVAL:P3D
CALSCALE:GREGORIAN
BEGIN:VEVENT
DTSTART:20100405T150000Z
DTEND:20100430T200000Z
X-MICROSOFT-CDO-ALLDAYEVENT:FALSE
SUMMARY:Art Exhibition
DESCRIPTION:The Pearl Conard Gallery at The Ohio State University at Mansfield will feture the exhibition "Seeman and Williams" from April 5-30.  The public is invited to attend a catered opening for the show on April 5 from \n11 a.m. - 2 p.m.  Artists Rebecca Seeman and Paige Williams are colleagues at the Art Academy of Cincinnati\, where they share a palette and an interest in referencing everyday shapes and objects.  Some works use pin holes within the work and positioned lighting to illiminate it\, which creates dot patterns creating another art form.  Interpretation of such an exhnibit will vary\, but the bottom line is to enjoy the pattern variations\, the workmanship and the shifting forms created using shadows.  Gallery hours are 11 a.m. - 4 p.m.\, Monday through Friday\, and admission is free.
X-ALT-DESC;FMTTYPE=text/html:The Pearl Conard Gallery at The Ohio State University at Mansfield will feture the exhibition "Seeman and Williams" from April 5-30.  The public is invited to attend a catered opening for the show on April 5 from \n11 a.m. - 2 p.m.  Artists Rebecca Seeman and Paige Williams are colleagues at the Art Academy of Cincinnati\, where they share a palette and an interest in referencing everyday shapes and objects.  Some works use pin holes within the work and positioned lighting to illiminate it\, which creates dot patterns creating another art form.  Interpretation of such an exhnibit will vary\, but the bottom line is to enjoy the pattern variations\, the workmanship and the shifting forms created using shadows.  Gallery hours are 11 a.m. - 4 p.m.\, Monday through Friday\, and admission is free. 
LOCATION:Pearl Conard Art Gallery in Ovalwood Hall
UID:e.2256.290
SEQUENCE:3
DTSTAMP:20260425T151730Z
URL:https://portal.richlandareachamber.com/events/details/art-exhibition-04-05-2010-290
END:VEVENT

END:VCALENDAR
