BEGIN:VCALENDAR
VERSION:2.0
PRODID:-//ChamberMaster//Event Calendar 2.0//EN
METHOD:PUBLISH
X-PUBLISHED-TTL:P3D
REFRESH-INTERVAL:P3D
CALSCALE:GREGORIAN
BEGIN:VEVENT
DTSTART:20110827T120000Z
DTEND:20110828T010000Z
X-MICROSOFT-CDO-ALLDAYEVENT:FALSE
SUMMARY:Art Around the Block
DESCRIPTION:Art Exhibit
X-ALT-DESC;FMTTYPE=text/html:Art Exhibit
LOCATION:Central Park
UID:e.2256.571
SEQUENCE:3
DTSTAMP:20260424T155654Z
URL:https://portal.richlandareachamber.com/events/details/art-around-the-block-08-27-2011-571
END:VEVENT

END:VCALENDAR
