BEGIN:VCALENDAR
VERSION:2.0
PRODID:-//ChamberMaster//Event Calendar 2.0//EN
METHOD:PUBLISH
X-PUBLISHED-TTL:P3D
REFRESH-INTERVAL:P3D
CALSCALE:GREGORIAN
BEGIN:VEVENT
DTSTART;VALUE=DATE:20110416
DTEND;VALUE=DATE:20110417
TRANSP:TRANSPARENT
X-MICROSOFT-CDO-ALLDAYEVENT:TRUE
SUMMARY:April Showers
DESCRIPTION:April Showers\nSaturday\, April 16th\, 2011  8:00 PM  Sometimes music can help make a movie famous\, in the instance of tonight's program\, the movie made the music famous!   \n\nIn: Performance Schedule\n\n\n\n\n\nRenaissance Theatre - www.mansfieldtickets.com - 419-522-2726
X-ALT-DESC;FMTTYPE=text/html:April Showers\nSaturday\, April 16th\, 2011  8:00 PM  Sometimes music can help make a movie famous\, in the instance of tonight's program\, the movie made the music famous!   \n\nIn: Performance Schedule\n\n\n\n\n\nRenaissance Theatre - www.mansfieldtickets.com - 419-522-2726\n
LOCATION:
UID:e.2256.424
SEQUENCE:3
DTSTAMP:20260424T225238Z
URL:https://portal.richlandareachamber.com/events/details/april-showers-04-16-2011-424
END:VEVENT

END:VCALENDAR
