BEGIN:VCALENDAR
VERSION:2.0
PRODID:-//ChamberMaster//Event Calendar 2.0//EN
METHOD:PUBLISH
X-PUBLISHED-TTL:P3D
REFRESH-INTERVAL:P3D
CALSCALE:GREGORIAN
BEGIN:VEVENT
DTSTART:20090923T213000Z
DTEND:20090923T213000Z
X-MICROSOFT-CDO-ALLDAYEVENT:FALSE
SUMMARY:APICS Professional Development meeting
DESCRIPTION:We will be meeting at El Campestre on Fourth Street in Mansfield\, OH at 5:30 p.m. for dinner.  Following dinner and a brief meeting we will be traveling to PR Machine Works for a tour of their state of the art facility.  Please call Melanie at 419-755-1237 for reservations.  There is no cost for the meeting (dinner is on your own)\, however we do require reservations so the restaurant can be prepared.
X-ALT-DESC;FMTTYPE=text/html:We will be meeting at El Campestre on Fourth Street in Mansfield\, OH at 5:30 p.m. for dinner.  Following dinner and a brief meeting we will be traveling to PR Machine Works for a tour of their state of the art facility.  Please call Melanie at 419-755-1237 for reservations.  There is no cost for the meeting (dinner is on your own)\, however we do require reservations so the restaurant can be prepared.
LOCATION:El Campestre\, then PR Machine Works\, Mansfield\, OH
UID:e.2256.82
SEQUENCE:3
DTSTAMP:20260426T004836Z
URL:https://portal.richlandareachamber.com/events/details/apics-professional-development-meeting-09-23-2009-82
END:VEVENT

END:VCALENDAR
