BEGIN:VCALENDAR
VERSION:2.0
PRODID:-//ChamberMaster//Event Calendar 2.0//EN
METHOD:PUBLISH
X-PUBLISHED-TTL:P3D
REFRESH-INTERVAL:P3D
CALSCALE:GREGORIAN
BEGIN:VEVENT
DTSTART:20090703T160000Z
DTEND:20090705T010000Z
X-MICROSOFT-CDO-ALLDAYEVENT:FALSE
SUMMARY:Antique Festival
DESCRIPTION:Enjoy Antiques and Collectibles in downtown Loudonville. Antique and collectible dealers set up in downtown Loudonville's Central Park. Live entertainment\, food and more. \nClassic Car Show & FOURTH OF JULY FIREWORKS .Over 500 cars attend this annual show. Rated #2 in the top ten downtown events in Crusin' Times Magazine. Live entertainment\, great food and so much more!  Fireworks will be set off at dusk in Riverside Park
X-ALT-DESC;FMTTYPE=text/html:Enjoy Antiques and Collectibles in downtown Loudonville. Antique and collectible dealers set up in downtown Loudonville's Central Park. Live entertainment\, food and more. \nClassic Car Show & FOURTH OF JULY FIREWORKS .Over 500 cars attend this annual show. Rated #2 in the top ten downtown events in Crusin' Times Magazine. Live entertainment\, great food and so much more!  Fireworks will be set off at dusk in Riverside Park
LOCATION:Downtown Loudonville
UID:e.2256.9
SEQUENCE:3
DTSTAMP:20260426T040039Z
URL:https://portal.richlandareachamber.com/events/details/antique-festival-07-03-2009-9
END:VEVENT

END:VCALENDAR
