BEGIN:VCALENDAR
VERSION:2.0
PRODID:-//ChamberMaster//Event Calendar 2.0//EN
METHOD:PUBLISH
X-PUBLISHED-TTL:P3D
REFRESH-INTERVAL:P3D
CALSCALE:GREGORIAN
BEGIN:VEVENT
DTSTART:20100517T150000Z
DTEND:20100604T200000Z
X-MICROSOFT-CDO-ALLDAYEVENT:FALSE
SUMMARY:Annual Student Art Exhibition
DESCRIPTION:The Conard Art Gallery at Ohio State University at Mansfield presents the Annual Student Art Exhibition.  This show is always a crowd pleaser and relfects the year's work by OSU-M students under the tutelae of Associate Professor John Thrasher\, Assistant Professor Kate Shannon\, and Instructor Jeff Sprang.  The public is invited to attend the catered opening on Monay\, May 17 from 11:00 a.m. - 2:00 p.m.\, in the Gallery.  Gallery hours are 11:00 a.m. - 4 p.m.\, Monday-Friday.  For more information call 419-755-4255.
X-ALT-DESC;FMTTYPE=text/html:The Conard Art Gallery at Ohio State University at Mansfield presents the Annual Student Art Exhibition.  This show is always a crowd pleaser and relfects the year's work by OSU-M students under the tutelae of Associate Professor John Thrasher\, Assistant Professor Kate Shannon\, and Instructor Jeff Sprang.  The public is invited to attend the catered opening on Monay\, May 17 from 11:00 a.m. - 2:00 p.m.\, in the Gallery.  Gallery hours are 11:00 a.m. - 4 p.m.\, Monday-Friday.  For more information call 419-755-4255.
LOCATION:Conard Art Gallery at The Ohio State University at Mansfield
UID:e.2256.315
SEQUENCE:3
DTSTAMP:20260425T121710Z
URL:https://portal.richlandareachamber.com/events/details/annual-student-art-exhibition-05-17-2010-315
END:VEVENT

END:VCALENDAR
