BEGIN:VCALENDAR
VERSION:2.0
PRODID:-//ChamberMaster//Event Calendar 2.0//EN
METHOD:PUBLISH
X-PUBLISHED-TTL:P3D
REFRESH-INTERVAL:P3D
CALSCALE:GREGORIAN
BEGIN:VEVENT
DTSTART:20130525T130000Z
DTEND:20130525T153000Z
X-MICROSOFT-CDO-ALLDAYEVENT:FALSE
SUMMARY:Altrusa Job Workshop
DESCRIPTION:Altrusa of Mansfield is sponsoring a Networking - Finding Job Openings & Team Power Workshop with help from our media partners\, WMAN\, WMFD and the News Journal.  This is a free event open to the public.  Sign up at Altrusaworkshop@gmail.com.
X-ALT-DESC;FMTTYPE=text/html:Altrusa of Mansfield is sponsoring a Networking - Finding Job Openings & Team Power Workshop with help from our media partners\, WMAN\, WMFD and the News Journal.  This is a free event open to the public.  Sign up at Altrusaworkshop@gmail.com.  
LOCATION:Holiday Inn Mansfield 116 Park Avenue West
UID:e.2256.793
SEQUENCE:3
DTSTAMP:20260419T185057Z
URL:https://portal.richlandareachamber.com/events/details/altrusa-job-workshop-05-25-2013-793
END:VEVENT

END:VCALENDAR
