BEGIN:VCALENDAR
VERSION:2.0
PRODID:-//ChamberMaster//Event Calendar 2.0//EN
METHOD:PUBLISH
X-PUBLISHED-TTL:P3D
REFRESH-INTERVAL:P3D
CALSCALE:GREGORIAN
BEGIN:VEVENT
DTSTART:20121006T180000Z
DTEND:20121006T210000Z
X-MICROSOFT-CDO-ALLDAYEVENT:FALSE
SUMMARY:Alta's Farmer's Market
DESCRIPTION:Alta's Farmer's Market is every Saturday 2-5 PM on the north lawn.
X-ALT-DESC;FMTTYPE=text/html:Alta's Farmer's Market is every Saturday 2-5 PM on the north lawn. 
LOCATION:Alta Florist and Greenhouse\, 935 Home Road\, Mansfield\, OH on the north lawn\, next to the Greenhouse.
UID:e.2256.688
SEQUENCE:3
DTSTAMP:20260420T072441Z
URL:https://portal.richlandareachamber.com/events/details/alta-s-farmer-s-market-10-06-2012-688
END:VEVENT

END:VCALENDAR
