BEGIN:VCALENDAR
VERSION:2.0
PRODID:-//ChamberMaster//Event Calendar 2.0//EN
METHOD:PUBLISH
X-PUBLISHED-TTL:P3D
REFRESH-INTERVAL:P3D
CALSCALE:GREGORIAN
BEGIN:VEVENT
DTSTART:20110410T173000Z
DTEND:20110410T193000Z
X-MICROSOFT-CDO-ALLDAYEVENT:FALSE
SUMMARY:Alpha Delta Pi's annual Silent Auction
DESCRIPTION:Alpha Delta Pi sorority\, Epsilon Nu Chapter at Ashland University\, will be hosting their 7th annual silent auction on Sunday April 10\, 2011. All proceeds will benefit the Ronald McDonald House. Last year the sisters raised over $10\,000 and are hoping to raise even more this year. There will be over 200 items for auction including sport memorabilia\, Vera Bradley\, theme baskets\, jewelry\, wine baskets and much more.\nTickets are $5 for adults. Questions\, please contact Tracy at tstjohn@ashland.edu.
X-ALT-DESC;FMTTYPE=text/html:Alpha Delta Pi sorority\, Epsilon Nu Chapter at Ashland University\, will be hosting their 7th annual silent auction on Sunday April 10\, 2011. All proceeds will benefit the Ronald McDonald House. Last year the sisters raised over $10\,000 and are hoping to raise even more this year. There will be over 200 items for auction including sport memorabilia\, Vera Bradley\, theme baskets\, jewelry\, wine baskets and much more.\nTickets are $5 for adults. Questions\, please contact Tracy at tstjohn@ashland.edu.
LOCATION:The auction will be held in the Ashland University John C. Myers Convocation Center.
UID:e.2256.518
SEQUENCE:3
DTSTAMP:20260424T212649Z
URL:https://portal.richlandareachamber.com/events/details/alpha-delta-pi-s-annual-silent-auction-04-10-2011-518
END:VEVENT

END:VCALENDAR
