BEGIN:VCALENDAR
VERSION:2.0
PRODID:-//ChamberMaster//Event Calendar 2.0//EN
METHOD:PUBLISH
X-PUBLISHED-TTL:P3D
REFRESH-INTERVAL:P3D
CALSCALE:GREGORIAN
BEGIN:VEVENT
DTSTART;VALUE=DATE:20100605
DTEND;VALUE=DATE:20100606
TRANSP:TRANSPARENT
X-MICROSOFT-CDO-ALLDAYEVENT:TRUE
SUMMARY:Almost Maine at the Mansfield Playhouse
DESCRIPTION:For more information contact the Mansfield Playhouse at 419-522-2883 or http://www.mansfieldplayhouse.com
X-ALT-DESC;FMTTYPE=text/html:<font face="Garamond" color="#000000" size="3">For more information&nbsp\;contact&nbsp\;the Mansfield Playhouse at&nbsp\;419-522-2883 or http://www.mansfieldplayhouse.com<br />\n</font>
LOCATION:
UID:e.2256.233
SEQUENCE:3
DTSTAMP:20260425T134527Z
URL:https://portal.richlandareachamber.com/events/details/almost-maine-at-the-mansfield-playhouse-06-05-2010-233
END:VEVENT

END:VCALENDAR
