BEGIN:VCALENDAR
VERSION:2.0
PRODID:-//ChamberMaster//Event Calendar 2.0//EN
METHOD:PUBLISH
X-PUBLISHED-TTL:P3D
REFRESH-INTERVAL:P3D
CALSCALE:GREGORIAN
BEGIN:VEVENT
DTSTART;VALUE=DATE:20110323
DTEND;VALUE=DATE:20110324
TRANSP:TRANSPARENT
X-MICROSOFT-CDO-ALLDAYEVENT:TRUE
SUMMARY:All Shook Up
DESCRIPTION:All Shook Up\nWednesday\, March 23rd\, 2011  3:00 PM & 7:00PM  The national tour of ALL SHOOK UP mixes a little bit of Shakespeare with a whole lot of The King\, and guarantees that your entire family will be jumpin' out of their blue suede shoes!\n\nIn: Broadway Series\n\n\n\n\n\n\n\n\n\n\nRenaissance Theatre - www.mansfieldtickets.com - 419-522-2726
X-ALT-DESC;FMTTYPE=text/html:All Shook Up\nWednesday\, March 23rd\, 2011  3:00 PM & 7:00PM  The national tour of ALL SHOOK UP mixes a little bit of Shakespeare with a whole lot of The King\, and guarantees that your entire family will be jumpin' out of their blue suede shoes!\n\nIn: Broadway Series\n\n\n\n\n\n\n\n\n\n\nRenaissance Theatre - www.mansfieldtickets.com - 419-522-2726\n
LOCATION:
UID:e.2256.416
SEQUENCE:3
DTSTAMP:20260424T225222Z
URL:https://portal.richlandareachamber.com/events/details/all-shook-up-03-23-2011-416
END:VEVENT

END:VCALENDAR
