BEGIN:VCALENDAR
VERSION:2.0
PRODID:-//ChamberMaster//Event Calendar 2.0//EN
METHOD:PUBLISH
X-PUBLISHED-TTL:P3D
REFRESH-INTERVAL:P3D
CALSCALE:GREGORIAN
BEGIN:VEVENT
DTSTART:20100625T150000Z
DTEND:20100625T150000Z
X-MICROSOFT-CDO-ALLDAYEVENT:FALSE
SUMMARY:All A Flutter with Butterflies
DESCRIPTION:Butterflies are back! Alta Florist & Greenhouse invites you to meet our native butterflies up close. Butterfly expert\, Fran LeMaster will  be at Alta with her walked-in habitat. Fran will have programs on Saturday at 11:00 & 2:00 PM and Sunday at 2:00 PM\, explaining the life-cycle of a butterfly and how these amazing creatures function. Went to grow a garden to attract more of these flying jewels\, Fran will talk about what plants are needed for butterfly habitat\, food\, and egg laying.
X-ALT-DESC;FMTTYPE=text/html:Butterflies are back! Alta Florist & Greenhouse invites you to meet our native butterflies up close. Butterfly expert\, Fran LeMaster will  be at Alta with her walked-in habitat. Fran will have programs on Saturday at 11:00 & 2:00 PM and Sunday at 2:00 PM\, explaining the life-cycle of a butterfly and how these amazing creatures function. Went to grow a garden to attract more of these flying jewels\, Fran will talk about what plants are needed for butterfly habitat\, food\, and egg laying.
LOCATION:Alta Florist & Greenhouse 935 Home Road South Mansfield\, OH
UID:e.2256.321
SEQUENCE:3
DTSTAMP:20260425T121513Z
URL:https://portal.richlandareachamber.com/events/details/all-a-flutter-with-butterflies-06-25-2010-321
END:VEVENT

END:VCALENDAR
