BEGIN:VCALENDAR
VERSION:2.0
PRODID:-//ChamberMaster//Event Calendar 2.0//EN
METHOD:PUBLISH
X-PUBLISHED-TTL:P3D
REFRESH-INTERVAL:P3D
CALSCALE:GREGORIAN
BEGIN:VEVENT
DTSTART;VALUE=DATE:20110402
DTEND;VALUE=DATE:20110403
TRANSP:TRANSPARENT
X-MICROSOFT-CDO-ALLDAYEVENT:TRUE
SUMMARY:Aged to Perfection IV: Fundraiser to Benefit The Renaissance
DESCRIPTION:Aged to Perfection IV: Fundraiser to Benefit The Renaissance\nSaturday\, April 2nd\, 2011  7:00pm  Aged to Perfection IV is an intimate evening of exquisite wines\, delectable hors d'oeuvres and great music by the Race Band Trio.\n\nIn: Special Events\n\n\n\nRenaissance Theatre - www.mansfieldtickets.com - 419-522-2726
X-ALT-DESC;FMTTYPE=text/html:Aged to Perfection IV: Fundraiser to Benefit The Renaissance\nSaturday\, April 2nd\, 2011  7:00pm  Aged to Perfection IV is an intimate evening of exquisite wines\, delectable hors d'oeuvres and great music by the Race Band Trio.\n\nIn: Special Events\n\n\n\nRenaissance Theatre - www.mansfieldtickets.com - 419-522-2726\n
LOCATION:
UID:e.2256.419
SEQUENCE:3
DTSTAMP:20260424T212910Z
URL:https://portal.richlandareachamber.com/events/details/aged-to-perfection-iv-fundraiser-to-benefit-the-renaissance-04-02-2011-419
END:VEVENT

END:VCALENDAR
