BEGIN:VCALENDAR
VERSION:2.0
PRODID:-//ChamberMaster//Event Calendar 2.0//EN
METHOD:PUBLISH
X-PUBLISHED-TTL:P3D
REFRESH-INTERVAL:P3D
CALSCALE:GREGORIAN
BEGIN:VEVENT
DTSTART:20090727T120000Z
DTEND:20090803T210000Z
X-MICROSOFT-CDO-ALLDAYEVENT:FALSE
SUMMARY:Advantage Credit Union Community Open House
DESCRIPTION:Free membership is open to anyone who lives\, works\, worships or attends school in Richland County.  Community Open House is during lobby business hours July 27th - August 3rd.  Enter to win several great prizes!  Gas Grill\, TV\, Nintendo Wii\nRefreshments available
X-ALT-DESC;FMTTYPE=text/html:Free membership is open to anyone who lives\, works\, worships or attends school in Richland County.  Community Open House is during lobby business hours July 27th - August 3rd.  Enter to win several great prizes!  Gas Grill\, TV\, Nintendo Wii\nRefreshments available
LOCATION:700 Stumbo Road runs between Lexington Springmill Road and West 4th Street\, next to the Richland Mall
UID:e.2256.50
SEQUENCE:3
DTSTAMP:20260426T022100Z
URL:https://portal.richlandareachamber.com/events/details/advantage-credit-union-community-open-house-07-27-2009-50
END:VEVENT

END:VCALENDAR
