BEGIN:VCALENDAR
VERSION:2.0
PRODID:-//ChamberMaster//Event Calendar 2.0//EN
METHOD:PUBLISH
X-PUBLISHED-TTL:P3D
REFRESH-INTERVAL:P3D
CALSCALE:GREGORIAN
BEGIN:VEVENT
DTSTART:20250806T220000Z
DTEND:20250807T010000Z
X-MICROSOFT-CDO-ALLDAYEVENT:FALSE
SUMMARY:Adult Softball League - August/September 2025 - Wednesday\, Mansfield
DESCRIPTION:Dust off your cleats and play your favorite pastime at a diamond near you! We are currently offering coed softball in Mansfield\, OH. Our player perks include league shirts\, a team photo\, premium softball fields with lights and a concession stand\, an umpire\, a trophy or a championship banner for the league-winning team\, and an end-of-season party! Both full team and individual/free agent registration are available.\n\nThis league will play every Wednesday between 6-9 PM in August and September. Games will be played at Cyclops Fields\, starting at 6 PM and 7:30 PM. This season will consist of regular-season and championship games. Some double-headers may be included. The top-seeded teams from the regular season will be eligible for the playoff round.\n\nIf you have any questions or need information about the league\, please reach out to us via email at guialves@ohiosocialsports.com\n\nTeam Roster Format/Registration Information: You must be at least 18 years old to play. If you are less than 18\, a parent or guardian must authorize your enrollment in a team.\n\nTeams must have at least fourteen players\, including 3 of each gender\, on the field simultaneously. Each individual player must be registered\, paid in full\, and have physically or electronically signed waivers on file with the office before playing.\n\nRegistration Options:\n\nFree Agent (1) - Sign up solo\, and let us place you on a team needing players.\n\nSmall-Group (2-13) - Don't have a full team? No problem - we will make sure you stay together as a group while supplementing your group with players.\n\nFull team (10+) - Got enough people to take us on? Bring it!\n\nWe generally place Free Agents and Small Groups 4-5 days prior to the season start date.\n\nLocation:\n\nCyclops Field\n\n783 N Main Street\n\nMansfield\, OH 44902\n\nCost: $79\n\nIncludes:\n\nUse of Cyclops Fields with lights\n\nRound Robin Games + Championship\n\nTeam t-shirt\n\nTeam & Game Photos\n\nUmpires\n\nSoftballs\n\nEnd-of-season party\n\n\n\nIf you have any questions or need information about the league\, please reach out to us via email at guialves@ohiosocialsports.com or call/text (954)803-8655
X-ALT-DESC;FMTTYPE=text/html:<p>Dust off your cleats and play your favorite pastime at a diamond near you! We are currently offering coed softball in Mansfield\, OH. Our player perks include league shirts\, a team photo\, premium softball fields with lights and a concession stand\, an umpire\, a trophy or a championship banner for the league-winning team\, and an end-of-season party! Both full team and individual/free agent registration are available.</p>\n\n<p>This league will play every Wednesday between 6-9 PM in August and September. Games will be played at Cyclops Fields\, starting at 6 PM and 7:30 PM. This season will consist of regular-season and championship games. Some double-headers may be included. The top-seeded teams from the regular season will be eligible for the playoff round.</p>\n\n<p>If you have any questions or need information about the league\, please reach out to us via email at guialves@ohiosocialsports.com</p>\n\n<p>Team Roster Format/Registration Information: You must be at least 18 years old to play. If you are less than 18\, a parent or guardian must authorize your enrollment in a team.</p>\n\n<p>Teams must have at least fourteen players\, including 3 of each gender\, on the field simultaneously. Each individual player must be registered\, paid in full\, and have physically or electronically signed waivers on file with the office before playing.</p>\n\n<p>Registration Options:<br />\nFree Agent (1) - Sign up solo\, and let us place you on a team needing players.<br />\nSmall-Group (2-13) - Don&#39\;t have a full team? No problem - we will make sure you stay together as a group while supplementing your group with players.<br />\nFull team (10+) - Got enough people to take us on? Bring it!<br />\nWe generally place Free Agents and Small Groups 4-5 days prior to the season start date.</p>\n\n<p>Location:<br />\nCyclops Field<br />\n783 N Main Street<br />\nMansfield\, OH 44902</p>\n\n<p>Cost: $79<br />\nIncludes:<br />\nUse of Cyclops Fields with lights<br />\nRound Robin Games + Championship<br />\nTeam t-shirt<br />\nTeam &amp\; Game Photos<br />\nUmpires<br />\nSoftballs<br />\nEnd-of-season party</p>\n\n<p><br />\nIf you have any questions or need information about the league\, please reach out to us via email at guialves@ohiosocialsports.com or call/text (954)803-8655</p>\n
LOCATION:The Oasis Sports Complex (Old Cyclops Field) 783 N Main Street Mansfield\, OH 44902
UID:e.2256.6228
SEQUENCE:3
DTSTAMP:20260421T225420Z
URL:https://portal.richlandareachamber.com/events/details/adult-softball-league-august-september-2025-tuesdays-mansfield-6228
END:VEVENT

END:VCALENDAR
