BEGIN:VCALENDAR
VERSION:2.0
PRODID:-//ChamberMaster//Event Calendar 2.0//EN
METHOD:PUBLISH
X-PUBLISHED-TTL:P3D
REFRESH-INTERVAL:P3D
CALSCALE:GREGORIAN
BEGIN:VEVENT
DTSTART:20111002T000000Z
DTEND:20111002T030000Z
X-MICROSOFT-CDO-ALLDAYEVENT:FALSE
SUMMARY:Acoustic Renegade
DESCRIPTION:Dust off your old 80's garb and enjoy listening to the old hair band classics. Saturday October 1\,from 8-11pm\, playing for the first time at Sweeney's American Bistro\, Acoustic Renegade. As always no cover\, reserve your spot before they are all gone.
X-ALT-DESC;FMTTYPE=text/html:Dust off your old 80's garb and enjoy listening to the old hair band classics. Saturday October 1\,from 8-11pm\, playing for the first time at Sweeney's American Bistro\, Acoustic Renegade. As always no cover\, reserve your spot before they are all gone.
LOCATION:located between Rite-Aid and the Y
UID:e.2256.619
SEQUENCE:3
DTSTAMP:20260424T111125Z
URL:https://portal.richlandareachamber.com/events/details/acoustic-renegade-10-01-2011-619
END:VEVENT

END:VCALENDAR
